BEGIN:VCALENDAR
VERSION:2.0
PRODID:-//Northern Bukidnon State College | NBSC - ECPv6.15.11//NONSGML v1.0//EN
CALSCALE:GREGORIAN
METHOD:PUBLISH
X-ORIGINAL-URL:https://nbsc.edu.ph
X-WR-CALDESC:Events for Northern Bukidnon State College | NBSC
REFRESH-INTERVAL;VALUE=DURATION:PT1H
X-Robots-Tag:noindex
X-PUBLISHED-TTL:PT1H
BEGIN:VTIMEZONE
TZID:Asia/Shanghai
BEGIN:STANDARD
TZOFFSETFROM:+0800
TZOFFSETTO:+0800
TZNAME:CST
DTSTART:20240101T000000
END:STANDARD
END:VTIMEZONE
BEGIN:VEVENT
DTSTART;TZID=Asia/Shanghai:20250626T080000
DTEND;TZID=Asia/Shanghai:20250627T170000
DTSTAMP:20260426T060932
CREATED:20250604T025212Z
LAST-MODIFIED:20250627T001243Z
UID:7643-1750924800-1751043600@nbsc.edu.ph
SUMMARY:Activity: Internal Quality Audit (IQA) DAY 1 Participants: All regular employees both faculty   Implementing Unit: QA
DESCRIPTION:Activity: Internal Quality Audit (IQA) DAY 1 Participants: All regular employees both faculty Implementing Unit: QA
URL:https://nbsc.edu.ph/event/activity-internal-quality-audit-iqa-day-1-participants-all-regular-employees-both-faculty-implementing-unit-qa/
ATTACH;FMTTYPE=image/png:https://nbsc.edu.ph/wp-content/uploads/2025/06/473bff5c-3b9f-47f0-b221-d8ab45f81adc.png
END:VEVENT
BEGIN:VEVENT
DTSTART;TZID=Asia/Shanghai:20250625T100000
DTEND;TZID=Asia/Shanghai:20250625T120000
DTSTAMP:20260426T060932
CREATED:20250604T025051Z
LAST-MODIFIED:20250604T025051Z
UID:7641-1750845600-1750852800@nbsc.edu.ph
SUMMARY:RDID Monthly Meeting Research Office
DESCRIPTION:RDID Monthly Meeting \nResearch Office
URL:https://nbsc.edu.ph/event/rdid-monthly-meeting-research-office/
END:VEVENT
BEGIN:VEVENT
DTSTART;TZID=Asia/Shanghai:20250625T080000
DTEND;TZID=Asia/Shanghai:20250625T090000
DTSTAMP:20260426T060932
CREATED:20250604T025005Z
LAST-MODIFIED:20250623T012511Z
UID:7639-1750838400-1750842000@nbsc.edu.ph
SUMMARY:Performance Monitoring by QAO
DESCRIPTION:Performance Monitoring by QAO
URL:https://nbsc.edu.ph/event/performance-monitoring-by-qao/
ATTACH;FMTTYPE=image/png:https://nbsc.edu.ph/wp-content/uploads/2025/06/ChatGPT-Image-Jun-23-2025-09_22_28-AM.png
END:VEVENT
BEGIN:VEVENT
DTSTART;TZID=Asia/Shanghai:20250623T080000
DTEND;TZID=Asia/Shanghai:20250623T090000
DTSTAMP:20260426T060932
CREATED:20250604T024836Z
LAST-MODIFIED:20250604T024836Z
UID:7637-1750665600-1750669200@nbsc.edu.ph
SUMMARY:Quarterly Monitoring for Level 3 Accreditation by QAO
DESCRIPTION:Quarterly Monitoring for Level 3 Accreditation by QAO
URL:https://nbsc.edu.ph/event/quarterly-monitoring-for-level-3-accreditation-by-qao-2/
END:VEVENT
BEGIN:VEVENT
DTSTART;TZID=Asia/Shanghai:20250620T080000
DTEND;TZID=Asia/Shanghai:20250620T170000
DTSTAMP:20260426T060932
CREATED:20250618T061930Z
LAST-MODIFIED:20250618T061930Z
UID:7800-1750406400-1750438800@nbsc.edu.ph
SUMMARY:IGPO "NEGOSYO" Seminar
DESCRIPTION:Greetings of Peace!\nWe are pleased to inform you that the Income Generation Program Office (IGPO) will finally hold the much-awaited “NEGOSYO – Network for Empowering Growth and Opportunities in Starting Your Own” seminar\, which was previously postponed.\n📍 New Schedule: \n🗓 June 20\, 2025 (Friday) \n🕗 8:00 AM to 5:00 PM \n🏨 BCMPC Hotel\, Damilag\, Manolo Fortich\, Bukidnon\nWe look forward to your active participation in this meaningful and empowering activity designed to ignite entrepreneurial spirit and inspire self-sustaining growth.\nThank you very much for your continued support and understanding.\nSincerely\, \nIncome Generation Program Office (IGPO)
URL:https://nbsc.edu.ph/event/igpo-negosyo-seminar/
ATTACH;FMTTYPE=image/png:https://nbsc.edu.ph/wp-content/uploads/2025/06/ChatGPT-Image-Jun-18-2025-02_16_00-PM.png
END:VEVENT
BEGIN:VEVENT
DTSTART;TZID=Asia/Shanghai:20250619T080000
DTEND;TZID=Asia/Shanghai:20250620T170000
DTSTAMP:20260426T060932
CREATED:20250604T021714Z
LAST-MODIFIED:20250618T060928Z
UID:7631-1750320000-1750438800@nbsc.edu.ph
SUMMARY:(HRMDO)  Public Service Office Accountability Training
DESCRIPTION:The Human Resource Management and Development Office (HRMDO) successfully conducted the Public Service Office Accountability Training aimed at strengthening ethical standards\, transparency\, and accountability in public service. This initiative empowers personnel to uphold integrity and deliver quality service to the community. \n#HRMDO #PublicService #AccountabilityMatters #GoodGovernance
URL:https://nbsc.edu.ph/event/hrmdo-public-service-office-accountability-training/
ATTACH;FMTTYPE=image/png:https://nbsc.edu.ph/wp-content/uploads/2025/06/ChatGPT-Image-Jun-18-2025-02_07_16-PM.png
END:VEVENT
BEGIN:VEVENT
DTSTART;TZID=Asia/Shanghai:20250618T080000
DTEND;TZID=Asia/Shanghai:20250618T090000
DTSTAMP:20260426T060932
CREATED:20250604T021504Z
LAST-MODIFIED:20250611T003645Z
UID:7629-1750233600-1750237200@nbsc.edu.ph
SUMMARY:Pride Day Activity   Implementing Unit: Gender and Development Office
DESCRIPTION:In celebration of diversity\, inclusion\, and love\, the Gender and Development Office proudly hosted the Pride Day Activity. This event served as a platform to promote gender equality\, raise awareness on LGBTQIA+ rights\, and foster a safe\, respectful\, and empowering environment for all. 🌟 \n#PrideDay2025 #GADInitiatives #InclusionMatters #GenderEquality
URL:https://nbsc.edu.ph/event/pride-day-activity-implementing-unit-gender-and-development-office/
ATTACH;FMTTYPE=image/jpeg:https://nbsc.edu.ph/wp-content/uploads/2025/06/501136605_1098728625609220_1888545347570524106_n.jpg
END:VEVENT
BEGIN:VEVENT
DTSTART;TZID=Asia/Shanghai:20250616T080000
DTEND;TZID=Asia/Shanghai:20250616T170000
DTSTAMP:20260426T060932
CREATED:20250603T054926Z
LAST-MODIFIED:20250611T005706Z
UID:7621-1750060800-1750093200@nbsc.edu.ph
SUMMARY:Mid-Year Stratrgic Planning / NEGOSYO Program Implementing / Extension Support Services: (RSS initiatives including Global Citizenship Education
DESCRIPTION:Activity: Mid-Year Strategic Planning  \nImplementing Unit: Planning and Development Office \nParticipants: Executive\, Unit Head\, Director \n—————————————————————- \nActivity: NEGOSYO Program \nImplementing Unit: IGPO \nParticipants: Faculty and Staff \nDuration: 1 day \n————————————————————— \nActivity: Extension Support Services: (RSS initiatives including Global Citizenship Education (GCED) Volunteer Program\, Peace Education\, and other relevant extension project and support services including Client Satisfaction Survey. \nImplementing Unit: Alven E. Gomez\, MSEST \nParticipants: Extension Coordinators (Faculty)\, Resource Speaker\, Extension Director\, and Extension Personel
URL:https://nbsc.edu.ph/event/mid-year-stratrgic-planning-negosyo-program-implementing-extension-support-services-rss-initiatives-including-global-citizenship-education/
ATTACH;FMTTYPE=image/png:https://nbsc.edu.ph/wp-content/uploads/2025/06/ChatGPT-Image-Jun-11-2025-08_55_16-AM.png
END:VEVENT
BEGIN:VEVENT
DTSTART;TZID=Asia/Shanghai:20250613T080000
DTEND;TZID=Asia/Shanghai:20250613T170000
DTSTAMP:20260426T060933
CREATED:20250603T032154Z
LAST-MODIFIED:20250611T002452Z
UID:7590-1749801600-1749834000@nbsc.edu.ph
SUMMARY:Earthquake Drill
DESCRIPTION:Northern Bukidnon State College conducts an earthquake drill to strengthen disaster preparedness and ensure the safety and readiness of students\, faculty\, and staff during emergencies.
URL:https://nbsc.edu.ph/event/earthquake-drill/
ATTACH;FMTTYPE=image/jpeg:https://nbsc.edu.ph/wp-content/uploads/2025/05/495575357_1077553671060049_2920526351582399064_n.jpg
END:VEVENT
BEGIN:VEVENT
DTSTART;TZID=Asia/Shanghai:20250612T080000
DTEND;TZID=Asia/Shanghai:20250612T170000
DTSTAMP:20260426T060933
CREATED:20250611T055243Z
LAST-MODIFIED:20250611T055243Z
UID:7695-1749715200-1749747600@nbsc.edu.ph
SUMMARY:INDEPENDENCE DAY
DESCRIPTION:Today\, we commemorate the 126th Independence Day of the Philippines — a day that reminds us of the bravery\, sacrifices\, and unbreakable spirit of our ancestors who fought for our nation’s freedom. \nLet this celebration be more than just a holiday. Let it be a moment of reflection — to honor the past\, appreciate our present\, and commit to building a better future for all Filipinos. As we raise our flags high\, may we also raise our hopes\, dreams\, and love for our country. \nMabuhay ang Pilipinas!
URL:https://nbsc.edu.ph/event/independence-day/
ATTACH;FMTTYPE=image/jpeg:https://nbsc.edu.ph/wp-content/uploads/2025/06/494823690_2137621943411105_4840960794617156656_n.jpg
END:VEVENT
BEGIN:VEVENT
DTSTART;TZID=Asia/Shanghai:20250609T080000
DTEND;TZID=Asia/Shanghai:20250610T170000
DTSTAMP:20260426T060933
CREATED:20250603T031651Z
LAST-MODIFIED:20250611T000536Z
UID:7582-1749456000-1749574800@nbsc.edu.ph
SUMMARY:Article Publication Training  RDID
DESCRIPTION:Article Publication Training  \nRDID
URL:https://nbsc.edu.ph/event/article-publication-training-rdid/
LOCATION:Northern Bukidnon State College
ATTACH;FMTTYPE=image/png:https://nbsc.edu.ph/wp-content/uploads/2025/06/2-1-scaled.png
END:VEVENT
END:VCALENDAR